BEGIN:VCALENDAR
VERSION:2.0
PRODID:-//MASCOT - ECPv6.15.20//NONSGML v1.0//EN
CALSCALE:GREGORIAN
METHOD:PUBLISH
X-WR-CALNAME:MASCOT
X-ORIGINAL-URL:https://mascot.org.my
X-WR-CALDESC:Events for MASCOT
REFRESH-INTERVAL;VALUE=DURATION:PT1H
X-Robots-Tag:noindex
X-PUBLISHED-TTL:PT1H
BEGIN:VTIMEZONE
TZID:Asia/Kuala_Lumpur
BEGIN:STANDARD
TZOFFSETFROM:+0800
TZOFFSETTO:+0800
TZNAME:+08
DTSTART:20230101T000000
END:STANDARD
END:VTIMEZONE
BEGIN:VEVENT
DTSTART;TZID=Asia/Kuala_Lumpur:20260204T080000
DTEND;TZID=Asia/Kuala_Lumpur:20260205T170000
DTSTAMP:20260423T164629
CREATED:20260122T005550Z
LAST-MODIFIED:20260122T005556Z
UID:10000138-1770192000-1770310800@mascot.org.my
SUMMARY:TLSM PAHANG PROVIDER COURSE
DESCRIPTION:Welcome to TLSM Provider Course 2026. \nWe are very happy to invite you to join us in this year TRAUMA LIFE SUPPORT PROVIDER COURSE\, that will include comprehensive teaching regarding trauma according to NCORT syllabus. \nCpd point will be provided. \nDo join us. \nAny inquiries do contact Dr Amira-0196307289
URL:https://mascot.org.my/event/tlsm-pahang-provider-course-2/
LOCATION:KULLIYAH OF MEDICINE\, Level 4 Skills Lab\, Jalan Sultan Ahmad Shah\, Bandar Indera Mahkota\, KUANTAN\, PAHANG\, 25200\, Malaysia
CATEGORIES:National TLSM
ATTACH;FMTTYPE=image/jpeg:https://mascot.org.my/wp-content/uploads/2026/01/1000339832.jpg
END:VEVENT
BEGIN:VEVENT
DTSTART;TZID=Asia/Kuala_Lumpur:20250612T000000
DTEND;TZID=Asia/Kuala_Lumpur:20250612T235959
DTSTAMP:20260423T164629
CREATED:20250520T230358Z
LAST-MODIFIED:20250520T230806Z
UID:10000104-1749686400-1749772799@mascot.org.my
SUMMARY:TLSM Basic Course HTAA\, Kuantan 2025
DESCRIPTION:This course is organised for PPW in Hospital Tengku Ampuan Afzan as part of their training program.
URL:https://mascot.org.my/event/tlsm-basic-course-kuantan-2025/
LOCATION:Jabatan Kecemasan dan Trauma Hospital Tengku Ampuan Afzan\, Jalan Tanah Putih\, Kuantan\, Pahang\, 25100\, Malaysia
ATTACH;FMTTYPE=image/jpeg:https://mascot.org.my/wp-content/uploads/2025/05/TLSM-B-june-htaa_page-0001.jpg
END:VEVENT
BEGIN:VEVENT
DTSTART;TZID=Asia/Kuala_Lumpur:20250429T080000
DTEND;TZID=Asia/Kuala_Lumpur:20250429T170000
DTSTAMP:20260423T164629
CREATED:20250413T051151Z
LAST-MODIFIED:20250413T051204Z
UID:10000090-1745913600-1745946000@mascot.org.my
SUMMARY:TLSM PAHANG PROVIDER COURSE
DESCRIPTION:Management of trauma related conditions often involve a multidisciplinary team. Situation can be increasingly complex and challenging\, especially in poly-trauma cases. It require fundamental understanding of the biomechanism of trauma as well as specific knowledge and skills. Teaching of systematic approach to trauma case management is a crucial training for medical staff from various disciplines who are directly involved in handling of these cases. Hands-on skill teaching has been proven to improve confidence and strengthen the understanding of theoretical knowledge. TLSM 2025 is an advanced trauma life support course organised by Emergency & trauma department of Hospital Tengku Ampuan Afzan (HTAA) in collaboration with International Islamic University Malaysia (IIUM) and Kuantan Pahang Emergency & Trauma Society (KUETS). \nThis is a structured teaching course on the systematic approach of trauma management. Participant will benefit from the in-depth dissection on trauma related conditions\, as well as the various hands-on modules available. Our course is aimed at providing high quality training on trauma management to trainers to train providers of trauma care. We hope to collectively improve the quality of trauma case management within the region
URL:https://mascot.org.my/event/tlsm-pahang-provider-course/2025-04-29/2/
LOCATION:KULLIYAH OF MEDICINE\, Level 4 Skills Lab\, Jalan Sultan Ahmad Shah\, Bandar Indera Mahkota\, KUANTAN\, PAHANG\, 25200\, Malaysia
CATEGORIES:National TLSM
ATTACH;FMTTYPE=image/jpeg:https://mascot.org.my/wp-content/uploads/2025/04/IMG-20250412-WA0016.jpg
END:VEVENT
BEGIN:VEVENT
DTSTART;TZID=Asia/Kuala_Lumpur:20250429T073000
DTEND;TZID=Asia/Kuala_Lumpur:20250430T180000
DTSTAMP:20260423T164629
CREATED:20250413T051151Z
LAST-MODIFIED:20250413T051204Z
UID:10000089-1745911800-1746036000@mascot.org.my
SUMMARY:TLSM PAHANG PROVIDER COURSE
DESCRIPTION:Management of trauma related conditions often involve a multidisciplinary team. Situation can be increasingly complex and challenging\, especially in poly-trauma cases. It require fundamental understanding of the biomechanism of trauma as well as specific knowledge and skills. Teaching of systematic approach to trauma case management is a crucial training for medical staff from various disciplines who are directly involved in handling of these cases. Hands-on skill teaching has been proven to improve confidence and strengthen the understanding of theoretical knowledge. TLSM 2025 is an advanced trauma life support course organised by Emergency & trauma department of Hospital Tengku Ampuan Afzan (HTAA) in collaboration with International Islamic University Malaysia (IIUM) and Kuantan Pahang Emergency & Trauma Society (KUETS). \nThis is a structured teaching course on the systematic approach of trauma management. Participant will benefit from the in-depth dissection on trauma related conditions\, as well as the various hands-on modules available. Our course is aimed at providing high quality training on trauma management to trainers to train providers of trauma care. We hope to collectively improve the quality of trauma case management within the region
URL:https://mascot.org.my/event/tlsm-pahang-provider-course/2025-04-29/1/
LOCATION:KULLIYAH OF MEDICINE\, Level 4 Skills Lab\, Jalan Sultan Ahmad Shah\, Bandar Indera Mahkota\, KUANTAN\, PAHANG\, 25200\, Malaysia
CATEGORIES:National TLSM
ATTACH;FMTTYPE=image/jpeg:https://mascot.org.my/wp-content/uploads/2025/04/IMG-20250412-WA0016.jpg
END:VEVENT
BEGIN:VEVENT
DTSTART;TZID=Asia/Kuala_Lumpur:20241113T080000
DTEND;TZID=Asia/Kuala_Lumpur:20241113T170000
DTSTAMP:20260423T164629
CREATED:20241109T104835Z
LAST-MODIFIED:20241109T105734Z
UID:10000069-1731484800-1731517200@mascot.org.my
SUMMARY:TLSM Basic HTAA\, Kuantan 2024
DESCRIPTION:This program provides basic training in management of injured patients.
URL:https://mascot.org.my/event/tlsm-basic-htaa-kuantan-2024/
LOCATION:Jabatan Kecemasan dan Trauma Hospital Tengku Ampuan Afzan\, Jalan Tanah Putih\, Kuantan\, Pahang\, 25100\, Malaysia
ATTACH;FMTTYPE=image/jpeg:https://mascot.org.my/wp-content/uploads/2024/11/TLSM-B-POSTER-htaa-2-scaled.jpg
END:VEVENT
BEGIN:VEVENT
DTSTART;TZID=Asia/Kuala_Lumpur:20240814T080000
DTEND;TZID=Asia/Kuala_Lumpur:20240815T170000
DTSTAMP:20260423T164629
CREATED:20250815T035121Z
LAST-MODIFIED:20250815T035459Z
UID:10000118-1723622400-1723741200@mascot.org.my
SUMMARY:TLSM - Basic Pahang 1/2025
DESCRIPTION:Greeting to all. \nThe Trauma Life Suppor Malaysia – Basic (TLSM-B) training course is a program that provides participants with basic level of competency training in the management of injured patients. \nDo join us to make trauma care better!
URL:https://mascot.org.my/event/tlsm-basic-pahang-1-2025/
LOCATION:Jabatan Kecemasan dan Trauma Hospital Tengku Ampuan Afzan\, Jalan Tanah Putih\, Kuantan\, Pahang\, 25100\, Malaysia
END:VEVENT
BEGIN:VEVENT
DTSTART;TZID=Asia/Kuala_Lumpur:20240508T073000
DTEND;TZID=Asia/Kuala_Lumpur:20240509T180000
DTSTAMP:20260423T164629
CREATED:20240420T140018Z
LAST-MODIFIED:20240420T140409Z
UID:10000034-1715153400-1715277600@mascot.org.my
SUMMARY:TLSM Provider Pahang
DESCRIPTION: Teaching of systematic approach to trauma case management is a crucial training for medical staff from various disciplines who are directly involved in handling of these cases. Hands-on skill teaching has been proven to improve confidence and strengthen the understanding of theoretical knowledge. ToT TLSM 2024 is an advanced trauma life support  course  organised by Emergency & trauma department of Hospital Tengku Ampuan Afzan (HTAA) in collaboration with International Islamic University Malaysia (IIUM) and Kuantan Pahang Emergency & Trauma Society (KUETS). This is a structured teaching course on the systematic approach of trauma management. Participant will benefit from the in-depth dissection on trauma related conditions\, as well as the various hands-on modules available. Our course is aimed at providing high quality training on trauma management to trainers to train providers of trauma care. We hope to collectively improve the quality of trauma case management within the region. \nThank you. \nRegister here : TLSM 2024 – Provider Course \nAny fees associated with the course shall be credited to the Persatuan Kecemasan dan Trauma Kuantan Pahang (KUETS)
URL:https://mascot.org.my/event/tlsm-provider-pahang/
LOCATION:KULLIYAH OF MEDICINE\, Level 4 Skills Lab\, Jalan Sultan Ahmad Shah\, Bandar Indera Mahkota\, KUANTAN\, PAHANG\, 25200\, Malaysia
ATTACH;FMTTYPE=image/jpeg:https://mascot.org.my/wp-content/uploads/2024/04/WhatsApp-Image-2024-04-20-at-10.54.30-AM.jpeg
END:VEVENT
BEGIN:VEVENT
DTSTART;TZID=Asia/Kuala_Lumpur:20240507T073000
DTEND;TZID=Asia/Kuala_Lumpur:20240509T180000
DTSTAMP:20260423T164629
CREATED:20240419T140918Z
LAST-MODIFIED:20240420T140146Z
UID:10000033-1715067000-1715277600@mascot.org.my
SUMMARY:TLSM TOT Pahang
DESCRIPTION: Teaching of systematic approach to trauma case management is a crucial training for medical staff from various disciplines who are directly involved in handling of these cases. Hands-on skill teaching has been proven to improve confidence and strengthen the understanding of theoretical knowledge. ToT TLSM 2024 is an advanced trauma life support  course  organised by Emergency & Trauma Department of Hospital Tengku Ampuan Afzan (HTAA) in collaboration with International Islamic University Malaysia (IIUM) and Kuantan Pahang Emergency & Trauma Society (KUETS). This is a structured teaching course on the systematic approach of trauma management. Participant will benefit from the in-depth dissection on trauma related conditions\, as well as the various hands-on modules available. Our course is aimed at providing high quality training on trauma management to trainers to train providers of trauma care. We hope to collectively improve the quality of trauma case management within the region.
URL:https://mascot.org.my/event/tlsm-tot-pahang/
LOCATION:KULLIYAH OF MEDICINE\, Level 4 Skills Lab\, Jalan Sultan Ahmad Shah\, Bandar Indera Mahkota\, KUANTAN\, PAHANG\, 25200\, Malaysia
ATTACH;FMTTYPE=image/jpeg:https://mascot.org.my/wp-content/uploads/2024/04/Adjusted-TOT.jpg
END:VEVENT
END:VCALENDAR