BEGIN:VCALENDAR
VERSION:2.0
PRODID:-//MASCOT - ECPv6.15.20//NONSGML v1.0//EN
CALSCALE:GREGORIAN
METHOD:PUBLISH
X-WR-CALNAME:MASCOT
X-ORIGINAL-URL:https://mascot.org.my
X-WR-CALDESC:Events for MASCOT
REFRESH-INTERVAL;VALUE=DURATION:PT1H
X-Robots-Tag:noindex
X-PUBLISHED-TTL:PT1H
BEGIN:VTIMEZONE
TZID:Asia/Kuala_Lumpur
BEGIN:STANDARD
TZOFFSETFROM:+0800
TZOFFSETTO:+0800
TZNAME:+08
DTSTART:20230101T000000
END:STANDARD
END:VTIMEZONE
BEGIN:VEVENT
DTSTART;TZID=Asia/Kuala_Lumpur:20240225T080000
DTEND;TZID=Asia/Kuala_Lumpur:20240228T170000
DTSTAMP:20260426T012815
CREATED:20240124T110941Z
LAST-MODIFIED:20240124T110952Z
UID:10000011-1708848000-1709139600@mascot.org.my
SUMMARY:TLSM TOT and Provider Course\, Sungai Petani\, Kedah
DESCRIPTION:This TLSM Course organised by Persatuan Perubatan Kecemasan HSAH. \n\n\n\nPlease register at the following link https://docs.google.com/forms/d/e/1FAIpQLScM6P2JjFK6HLrECYUcaDuIbjSRPa2cFX_Scj3hfc8f8rpc8g/viewform \n\n\n\nAs for 24th Jan 2024\, seats available for TLSM @ HSAH :TLSM Provider: 3TLSM TOT: 8 \n\n\n\nAny fees associated with the course shall be credited to the Persatuan Perubatan Kecemasan HSAH.
URL:https://mascot.org.my/event/tlsm-tot-and-provider-course-sungai-petani-kedah/
LOCATION:ILKKM Hospital Sultan Abdul Halim\, Sungai Petani\, Jalan Lencongan Timur\, Bandar Amanjaya\, Sungai Petani\, Sungai Petani\, 08000\, Malaysia
ATTACH;FMTTYPE=image/jpeg:https://mascot.org.my/wp-content/uploads/2024/01/WhatsApp-Image-2024-01-22-at-10.48.05.jpeg
END:VEVENT
END:VCALENDAR