BEGIN:VCALENDAR
VERSION:2.0
PRODID:-//MASCOT - ECPv6.15.20//NONSGML v1.0//EN
CALSCALE:GREGORIAN
METHOD:PUBLISH
X-ORIGINAL-URL:https://mascot.org.my
X-WR-CALDESC:Events for MASCOT
REFRESH-INTERVAL;VALUE=DURATION:PT1H
X-Robots-Tag:noindex
X-PUBLISHED-TTL:PT1H
BEGIN:VTIMEZONE
TZID:Asia/Kuala_Lumpur
BEGIN:STANDARD
TZOFFSETFROM:+0800
TZOFFSETTO:+0800
TZNAME:+08
DTSTART:20230101T000000
END:STANDARD
END:VTIMEZONE
BEGIN:VEVENT
DTSTART;TZID=Asia/Kuala_Lumpur:20240118T173000
DTEND;TZID=Asia/Kuala_Lumpur:20240118T183000
DTSTAMP:20260425T235601
CREATED:20240111T043437Z
LAST-MODIFIED:20240111T044311Z
UID:10000004-1705599000-1705602600@mascot.org.my
SUMMARY:Monthly Online Trauma Series CME
DESCRIPTION:Kick off the new year with a pioneering leap into trauma care expertise by attending the first installment of the MASCOT Monthly Online Trauma Series CME 01/2024 – your premier educational gateway to the latest in trauma management and patient care. This online event is a must-attend for healthcare professionals keen to elevate their trauma management skills to the next level. \n\n\n\nStep into the future of Trauma Life Support in Malaysia (TLSM) with Dr. Shah Jahan’s pioneering presentation. Experience first-hand the evolution of TLSM as we discuss the standardization of a national trauma training program\, promising to enhance the quality and consistency of trauma care across Malaysia. \n\n\n\nTransition seamlessly into an in-depth analysis of trauma clinical education strategies for the coming decade with Prof. Dr. Sabariah Faizah Jamaluddin. Her talk promises to arm you with the knowledge to embrace and navigate the complexities of trauma education and patient care as we approach 2030. \n\n\n\nWith a focus on the most pressing issues in trauma management and a lineup of esteemed speakers\, this webinar is a valuable opportunity for continuous medical education (CME). Engage with leading professionals\, earn CME credits\, and contribute to shaping the trajectory of trauma care. \n\n\n\nReserve your virtual seat today and join a community of forward-thinking professionals committed to excellence in trauma care. Register for the MASCOT Monthly Online Trauma Series CME 0/2024 and be a part of the change.
URL:https://mascot.org.my/event/monthly-online-trauma-series-cme/
LOCATION:Online
ATTACH;FMTTYPE=image/png:https://mascot.org.my/wp-content/uploads/2024/01/IMG_7053.png
ORGANIZER;CN="MASCOT":MAILTO:contact@mascot.org.my
END:VEVENT
END:VCALENDAR